BEGIN:VCALENDAR
VERSION:2.0
PRODID:-//Village Dermatology - ECPv6.15.20//NONSGML v1.0//EN
CALSCALE:GREGORIAN
METHOD:PUBLISH
X-WR-CALNAME:Village Dermatology
X-ORIGINAL-URL:https://villagedermatology.net
X-WR-CALDESC:Events for Village Dermatology
REFRESH-INTERVAL;VALUE=DURATION:PT1H
X-Robots-Tag:noindex
X-PUBLISHED-TTL:PT1H
BEGIN:VTIMEZONE
TZID:America/Chicago
BEGIN:DAYLIGHT
TZOFFSETFROM:-0600
TZOFFSETTO:-0500
TZNAME:CDT
DTSTART:20240310T080000
END:DAYLIGHT
BEGIN:STANDARD
TZOFFSETFROM:-0500
TZOFFSETTO:-0600
TZNAME:CST
DTSTART:20241103T070000
END:STANDARD
BEGIN:DAYLIGHT
TZOFFSETFROM:-0600
TZOFFSETTO:-0500
TZNAME:CDT
DTSTART:20250309T080000
END:DAYLIGHT
BEGIN:STANDARD
TZOFFSETFROM:-0500
TZOFFSETTO:-0600
TZNAME:CST
DTSTART:20251102T070000
END:STANDARD
BEGIN:DAYLIGHT
TZOFFSETFROM:-0600
TZOFFSETTO:-0500
TZNAME:CDT
DTSTART:20260308T080000
END:DAYLIGHT
BEGIN:STANDARD
TZOFFSETFROM:-0500
TZOFFSETTO:-0600
TZNAME:CST
DTSTART:20261101T070000
END:STANDARD
END:VTIMEZONE
BEGIN:VEVENT
DTSTART;VALUE=DATE:20250701
DTEND;VALUE=DATE:20250706
DTSTAMP:20260422T172335
CREATED:20250616T121447Z
LAST-MODIFIED:20250701T152117Z
UID:10000089-1751328000-1751759999@villagedermatology.net
SUMMARY:Summer Stock Up
DESCRIPTION:Get ready for sunshine and skincare! Join us on July 8th for our Summer Stock-Up event featuring exclusive savings and special gifts to kick off the season in style. \n✨ Event Highlights: \n\n20% Off your entire LABL Studio purchase\nFREE Gift with purchases of $75 or more (while supplies last)\nExpert product recommendations to refresh your skincare and summer essentials\n\nWhether you’re restocking your favorites or discovering new go-to products\, this is the perfect time to shop and save.
URL:https://villagedermatology.net/event/summer-stock-up/
LOCATION:LABL Studio\, 14 Office Park Circle\, Mountain Brook\, AL\, 35223\, United States
CATEGORIES:Event,Skincare
ATTACH;FMTTYPE=image/jpeg:https://villagedermatology.net/wp-content/uploads/2025/06/SSU.jpg
END:VEVENT
END:VCALENDAR